BEGIN:VCALENDAR
VERSION:2.0
PRODID:-//Squarespace Inc/Squarespace 6//v6//EN
BEGIN:VEVENT
UID:5be3446088251b294a76a943@squarespace.com
DTSTAMP:20181107T200700Z
DTSTART:20181211T003000Z
DTEND:20181211T020000Z
SUMMARY:Catholic University's Fall 2018 Composition Area Concert
GEO:38.938308;-76.999924
LOCATION:Ward Recital Hall\, 620 Michican Ave. NE\, Washington\, DC 20064\, 
 USA
END:VEVENT
END:VCALENDAR
