BEGIN:VCALENDAR
VERSION:2.0
PRODID:-//Squarespace Inc/Squarespace 6//v6//EN
BEGIN:VEVENT
UID:5c105a3f8a922def36daa8fe@squarespace.com
DTSTAMP:20181212T005126Z
DTSTART:20181214T170000Z
DTEND:20181214T180000Z
SUMMARY:Composers Concert Series (Friday Morning Music Club)
GEO:38.89942;-77.022629
LOCATION:Calvary Baptist Church\, 755 8th Street Northwest\, Washington\, D
 C\, 20001\, United States
END:VEVENT
END:VCALENDAR
