BEGIN:VCALENDAR
VERSION:2.0
PRODID:-//Squarespace Inc/Squarespace 6//v6//EN
BEGIN:VEVENT
UID:5be83c11cd8366853da1684d@squarespace.com
DTSTAMP:20181112T184537Z
DTSTART:20181203T220000Z
DTEND:20181204T020000Z
SUMMARY:New Music Happy Hour (DNMC)
GEO:38.804267;-77.041186
LOCATION:Pizzeria Paradiso\, 124 King Street\, Alexandria\, VA\, 22314\, Un
 ited States
END:VEVENT
END:VCALENDAR
