BEGIN:VCALENDAR
VERSION:2.0
PRODID:-//Squarespace Inc/Squarespace 6//v6//EN
BEGIN:VEVENT
UID:5ba40fcab208fcbe3f451d6d@squarespace.com
DTSTAMP:20181107T231016Z
DTSTART:20181205T000000Z
DTEND:20181205T030000Z
SUMMARY:Gemma Peacocke at An die Musik
GEO:39.294515;-76.615164
LOCATION:An die Musik\, 409 N Charles St\, Baltimore\, MD 21201
END:VEVENT
END:VCALENDAR
