BEGIN:VCALENDAR
VERSION:2.0
PRODID:-//Squarespace Inc/Squarespace 6//v6//EN
BEGIN:VEVENT
UID:5be36e41cd83663e141b98fe@squarespace.com
DTSTAMP:20181107T230432Z
DTSTART:20181208T210000Z
DTEND:20181208T230000Z
SUMMARY:Off the Beaten Path Music Series presents Balance Campaign 
END:VEVENT
END:VCALENDAR
