BEGIN:VCALENDAR
VERSION:2.0
PRODID:-//Squarespace Inc/Squarespace 6//v6//EN
BEGIN:VEVENT
UID:5ba40a859140b7f3867718b0@squarespace.com
DTSTAMP:20180920T211115Z
DTSTART:20181209T003000Z
DTEND:20181209T023000Z
SUMMARY:Susquehanna Symphony Orchestra: Music for a Festive Season
GEO:40.720756;-74.000761
LOCATION:Bel Air High School\, 100 Heighe Street\, Bel Air\, MD\, 21014\, U
 nited States
END:VEVENT
END:VCALENDAR
