BEGIN:VCALENDAR
VERSION:2.0
PRODID:-//Squarespace Inc/Squarespace 6//v6//EN
BEGIN:VEVENT
UID:5cc8ba649b747a41c17c3f27@squarespace.com
DTSTAMP:20190430T211621Z
DTSTART:20190430T230000Z
DTEND:20190501T003000Z
SUMMARY:TEMPO plays UMD composers
GEO:38.981453;-76.938174
LOCATION:MilkBoy ArtHouse\, 7416 Baltimore Avenue\, College Park\, MD\, 207
 40\, United States
END:VEVENT
END:VCALENDAR
