BEGIN:VCALENDAR
VERSION:2.0
PRODID:-//Squarespace Inc/Squarespace 6//v6//EN
BEGIN:VEVENT
UID:5d55fecba7e1f900019dc41e@squarespace.com
DTSTAMP:20190821T162112Z
DTSTART:20190914T143000Z
DTEND:20190915T220000Z
SUMMARY:New Music DC 2019
GEO:38.936881;-76.998692
LOCATION:Ward Hall\, The Catholic University of America\, 620 Michigan Aven
 ue Northeast\, Washington\, DC\, 20064\, United States
END:VEVENT
END:VCALENDAR
