BEGIN:VCALENDAR
VERSION:2.0
PRODID:-//Squarespace Inc/Squarespace 6//v6//EN
BEGIN:VEVENT
UID:5d6ef48952f19700014bf25e@squarespace.com
DTSTAMP:20190903T232246Z
DTSTART:20190915T220000Z
DTEND:20190915T230000Z
SUMMARY:NSO Community Perf. ft. The GoGo Symphony
GEO:38.925575;-76.976223
LOCATION:Chuck Brown Park\, 20th and Franklin Streets NE\, Washington\, DC 
 20018
END:VEVENT
END:VCALENDAR
