BEGIN:VCALENDAR
VERSION:2.0
PRODID:-//Squarespace Inc/Squarespace 6//v6//EN
BEGIN:VEVENT
UID:5d6db30e14ca940001b5d62d@squarespace.com
DTSTAMP:20190903T004541Z
DTSTART:20190915T180000Z
DTEND:20190915T194500Z
SUMMARY:Vocal Arts DC presents Brenda Rae\, soprano\, in Recital
GEO:38.896151;-77.055447
LOCATION:Kennedy Center\, 2700 F Street Northwest\, Washington\, DC\, 20566
 \, United States
END:VEVENT
END:VCALENDAR
