BEGIN:VCALENDAR
VERSION:2.0
PRODID:-//Squarespace Inc/Squarespace 6//v6//EN
BEGIN:VEVENT
UID:5e4576d281c87071297c36d0@squarespace.com
DTSTAMP:20200213T162141Z
DTSTART:20200223T010000Z
DTEND:20200223T030000Z
SUMMARY:To Celebrate the Need: New Vocal Music by Peter Dayton
GEO:39.307989;-76.611935
LOCATION:302 E Federal St.\, Baltimore\, MD\, 21202
END:VEVENT
END:VCALENDAR
