BEGIN:VCALENDAR
VERSION:2.0
PRODID:-//Squarespace Inc/Squarespace 6//v6//EN
BEGIN:VEVENT
UID:5e42d50d8f12ef5072f01035@squarespace.com
DTSTAMP:20200212T161044Z
DTSTART:20200228T010000Z
DTEND:20200228T023000Z
SUMMARY:Electroacoustic Oboe: The Intersection of the Mythological and Corp
 oreal
GEO:38.899983;-76.987424
LOCATION:Atlas Performing Arts Center\, 1333 H St NE\, Washington DC\, USA
END:VEVENT
END:VCALENDAR
