BEGIN:VCALENDAR
VERSION:2.0
PRODID:-//Squarespace Inc/Squarespace 6//v6//EN
BEGIN:VEVENT
UID:5e56b90be0e38673fd726fa2@squarespace.com
DTSTAMP:20200226T183422Z
DTSTART:20200229T010000Z
DTEND:20200229T023000Z
SUMMARY:Ensemble Dal Niente at UMD
GEO:38.989954;-76.949416
LOCATION:University of Maryland School of Music\, Alumni Drive\, College Pa
 rk\, United States
END:VEVENT
END:VCALENDAR
