BEGIN:VCALENDAR
VERSION:2.0
PRODID:-//Squarespace Inc/Squarespace 6//v6//EN
BEGIN:VEVENT
UID:5df98049437fa7242cb22d33@squarespace.com
DTSTAMP:20191218T012932Z
DTSTART:20200222T220000Z
DTEND:20200222T233000Z
SUMMARY:21st Century Consort: Time's Up
GEO:38.888509;-77.001745
LOCATION:St. Mark's Episcopal Church\, 301 A Street Southeast\, Washington\
 , DC\, 20003\, United States
END:VEVENT
END:VCALENDAR
